BEGIN:VCALENDAR
VERSION:2.0
METHOD:PUBLISH
PRODID:-//imacoda.com//SPD-Web-O-Mat//EN
CALSCALE:GREGORIAN
BEGIN:VTIMEZONE
TZID:Europe/Berlin
BEGIN:DAYLIGHT
TZOFFSETFROM:+0100
RRULE:FREQ=YEARLY;BYMONTH=3;BYDAY=-1SU
DTSTART:19810329T020000
TZNAME:MESZ
TZOFFSETTO:+0200
END:DAYLIGHT
BEGIN:STANDARD
TZOFFSETFROM:+0200
RRULE:FREQ=YEARLY;BYMONTH=10;BYDAY=-1SU
DTSTART:19961027T030000
TZNAME:MEZ
TZOFFSETTO:+0100
END:STANDARD
END:VTIMEZONE
BEGIN:VEVENT
UID:20230314T183039Z-00000901342-LULU@www.bayernspd.de
CREATED:20230314T183039Z
LAST-MODIFIED:20240618T103203Z
DTSTAMP:20240618T103203Z
TRANSP:TRANSPARENT
DTSTART;TZID=Europe/Berlin:20240627T190000
DTEND;TZID=Europe/Berlin:20240627T190000
SUMMARY:SPD-Stammtisch in der Gaststätte Wolfschlucht
LOCATION:Gaststätte Wolfschlucht
DESCRIPTION:Termin im Web (SPD Schwarzenbach a.d.Saale):\nhttps://spd-sc
 hwarzenbach-saale.de/termine/?id=901342
END:VEVENT
END:VCALENDAR
